BEGIN:VCALENDAR
VERSION:2.0
PRODID:-//Oberpfälzer Gauverband - ECPv6.15.20//NONSGML v1.0//EN
CALSCALE:GREGORIAN
METHOD:PUBLISH
X-WR-CALNAME:Oberpfälzer Gauverband
X-ORIGINAL-URL:https://oberpfaelzer-gauverband.de
X-WR-CALDESC:Veranstaltungen für Oberpfälzer Gauverband
REFRESH-INTERVAL;VALUE=DURATION:PT1H
X-Robots-Tag:noindex
X-PUBLISHED-TTL:PT1H
BEGIN:VTIMEZONE
TZID:Europe/Berlin
BEGIN:DAYLIGHT
TZOFFSETFROM:+0100
TZOFFSETTO:+0200
TZNAME:CEST
DTSTART:20230326T010000
END:DAYLIGHT
BEGIN:STANDARD
TZOFFSETFROM:+0200
TZOFFSETTO:+0100
TZNAME:CET
DTSTART:20231029T010000
END:STANDARD
BEGIN:DAYLIGHT
TZOFFSETFROM:+0100
TZOFFSETTO:+0200
TZNAME:CEST
DTSTART:20240331T010000
END:DAYLIGHT
BEGIN:STANDARD
TZOFFSETFROM:+0200
TZOFFSETTO:+0100
TZNAME:CET
DTSTART:20241027T010000
END:STANDARD
BEGIN:DAYLIGHT
TZOFFSETFROM:+0100
TZOFFSETTO:+0200
TZNAME:CEST
DTSTART:20250330T010000
END:DAYLIGHT
BEGIN:STANDARD
TZOFFSETFROM:+0200
TZOFFSETTO:+0100
TZNAME:CET
DTSTART:20251026T010000
END:STANDARD
END:VTIMEZONE
BEGIN:VEVENT
DTSTART;VALUE=DATE:20240728
DTEND;VALUE=DATE:20240804
DTSTAMP:20260422T032237
CREATED:20240107T092530Z
LAST-MODIFIED:20240726T181822Z
UID:1882-1722124800-1722729599@oberpfaelzer-gauverband.de
SUMMARY:Gaujugendzeltlager in Beratzhausen
DESCRIPTION:Nun ist es bald soweit und wir dürfen im Rahmen des Gaujugendzeltlagers Kinder und Jugendliche aus der ganzen Oberpfalz begrüßen. \ntäglich Biergartenbetrieb – Informationen dazu siehe Plakat! \nEiner der Höhepunkte des Lagerlebens ist die Lagerkirchweih\, die traditionell immer am Donnerstag der Zeltlagerwoche stattfindet\, zusammen mit dem Besuchertag. \nWir dürfen Euch dazu recht herzlich einladen mit uns zu feiern\, \nam Donnerstag\, 01. August 2024\n– 10.00 Uhr Wortgottesdienst\nanschließend Möglichkeit zum Mittagessen – Eintopf aus der Zeltlagerküche\nanschließend ist Mittagspause\n– 15.00 Uhr Aufstellen des Kirchweihbaumes\nTänze und Plattler der anwesenden Kinder- und Jugendlichen in lockerer Atmosphäre\nbegleitet von der kleinen Besetzung der Gautrachtenkapelle Beratzhausen\nam Zeltplatz neben dem Freibad Beratzhausen (Laaberer Straße 30)\, Parkmöglichkeit am Volksfestplatz\nzur Stärkung verkauft die Jugendgruppe Kaffee und Kuchen\, sowie Bratwürstl\nGetränke gibt es im Biergarten (dieser ist auch täglich für die Öffentlichkeit zugänglich) \nWir freuen uns auf Euren Besuch und verbleiben mit Trachtengruß \nMonika Herold Denise Görl\n1. Vorsitzende / Beratzhausen 1. Jugendleitern/Beratzhausen
URL:https://oberpfaelzer-gauverband.de/event/gaujugendzeltlager-in-beratzhausen
LOCATION:Freibad Beratzhausen\, Laaberer Straße 30\, 93176 Beratzhausen
CATEGORIES:Gau,Gaujugend
ATTACH;FMTTYPE=image/png:https://oberpfaelzer-gauverband.de/wp-content/uploads/2024/01/Zeltlager.png
END:VEVENT
BEGIN:VEVENT
DTSTART;TZID=Europe/Berlin:20240804T140000
DTEND;TZID=Europe/Berlin:20240804T140000
DTSTAMP:20260422T032237
CREATED:20240229T121043Z
LAST-MODIFIED:20240719T135154Z
UID:2005-1722780000-1722780000@oberpfaelzer-gauverband.de
SUMMARY:D`Labertaler Beratzhausen: Heimatfest am Essenbügl
DESCRIPTION:Am 04.08.2024 ab 14:00 Uhr lädt der D`Labertaler Beratzhausen ein zum gemütlichen Zusammensein am Essenbügl. \nFür Kaffee\, Kuchen\, verschiedene Getränke und Bratwurstsemmeln ist gesorgt. \nDer Tanzboden ist für jedermann geöffnet und der Trachtenverein wird Volkstänze und Schuhplattler darbieten. \nWir freuen uns auf Euren zahlreichen Besuch! \nD`Labertaler Beratshausen
URL:https://oberpfaelzer-gauverband.de/event/dlabertaler-beratzhausen-heimatfest-am-essenbuegl
CATEGORIES:Vereine
ATTACH;FMTTYPE=image/png:https://oberpfaelzer-gauverband.de/wp-content/uploads/2024/02/Heimatfest-2.png
ORGANIZER;CN="D`Labertaler Beratzhausen":MAILTO:christina_hartl@yahoo.de
END:VEVENT
BEGIN:VEVENT
DTSTART;TZID=Europe/Berlin:20240815T090000
DTEND;TZID=Europe/Berlin:20240815T170000
DTSTAMP:20260422T032237
CREATED:20240813T212535Z
LAST-MODIFIED:20240813T212535Z
UID:2098-1723712400-1723741200@oberpfaelzer-gauverband.de
SUMMARY:Kräuterbuschen - Mariä Himmelfahrt
DESCRIPTION:Kräuterbuschen am 15.08. – Mariä Himmelfahrt \nDer 15. August\, der Tag Mariä Himmelfahrt\, ist in katholischen Gegenden ein hoher Feiertag. Das Weihen von Kräuterbuschen ist in Bayern ein alter Brauch\, der bis in das 5. Jahrhundert zurückgeht. Schon damals wussten die Menschen um die Heilkraft vieler Kräuter\, und auch\, dass die meisten davon Mitte August ihre stärkste Wirkung entfalten. \nAuch in diesem Jahr binden u.a. die Mitglieder des Trachtenvereins „D’Miesbergler“ Schwarzenfeld und des „Enzian“ Bruck Kräuterbüschl und verkaufen sie an Mariä Himmelfahrt vor den Gottesdiensten an den Kirchen. Details siehe Veranstaltungen. \n– Für „Enzian“ Bruck gilt:\nVerkauf der Kräuterbuschen vor der Kirche am Kirchplatz.\nDie Weihe der Kräuterbüschl findet am 15. August um 9.00 Uhr vor der Kirche statt. Die musikalische Umrahmung des Gottesdienstes übernehmen die „Schönseer Moidl“. \nDer Erlös aus dem Verkauf der Kräuterbuschen wird wieder für einen guten Zweck eingesetzt. \n#tradition #brauchtumspflege #kräuterbuschen Volks- & Gebirgstrachtenverein „Enzian“ Bruck @D´Miesbergler Schwarzenfeld
URL:https://oberpfaelzer-gauverband.de/event/kraeuterbuschen-mariae-himmelfahrt
CATEGORIES:Brauchtum,Vereine
ATTACH;FMTTYPE=image/jpeg:https://oberpfaelzer-gauverband.de/wp-content/uploads/2024/08/IMG-20230815-WA0029-e1723584244116.jpg
END:VEVENT
END:VCALENDAR