BEGIN:VCALENDAR
VERSION:2.0
PRODID:-//Oberpfälzer Gauverband - ECPv6.15.20//NONSGML v1.0//EN
CALSCALE:GREGORIAN
METHOD:PUBLISH
X-ORIGINAL-URL:https://oberpfaelzer-gauverband.de
X-WR-CALDESC:Veranstaltungen für Oberpfälzer Gauverband
REFRESH-INTERVAL;VALUE=DURATION:PT1H
X-Robots-Tag:noindex
X-PUBLISHED-TTL:PT1H
BEGIN:VTIMEZONE
TZID:Europe/Berlin
BEGIN:DAYLIGHT
TZOFFSETFROM:+0100
TZOFFSETTO:+0200
TZNAME:CEST
DTSTART:20230326T010000
END:DAYLIGHT
BEGIN:STANDARD
TZOFFSETFROM:+0200
TZOFFSETTO:+0100
TZNAME:CET
DTSTART:20231029T010000
END:STANDARD
BEGIN:DAYLIGHT
TZOFFSETFROM:+0100
TZOFFSETTO:+0200
TZNAME:CEST
DTSTART:20240331T010000
END:DAYLIGHT
BEGIN:STANDARD
TZOFFSETFROM:+0200
TZOFFSETTO:+0100
TZNAME:CET
DTSTART:20241027T010000
END:STANDARD
BEGIN:DAYLIGHT
TZOFFSETFROM:+0100
TZOFFSETTO:+0200
TZNAME:CEST
DTSTART:20250330T010000
END:DAYLIGHT
BEGIN:STANDARD
TZOFFSETFROM:+0200
TZOFFSETTO:+0100
TZNAME:CET
DTSTART:20251026T010000
END:STANDARD
END:VTIMEZONE
BEGIN:VEVENT
DTSTART;TZID=Europe/Berlin:20241215T170000
DTEND;TZID=Europe/Berlin:20241215T190000
DTSTAMP:20260421T201730
CREATED:20241213T215250Z
LAST-MODIFIED:20241213T215250Z
UID:2195-1734282000-1734289200@oberpfaelzer-gauverband.de
SUMMARY:
DESCRIPTION:Einladung zum Adventsingen in der Pfarrkirche St. Johannes Diesenbach \nZum 14. Mal veranstaltet der Heimat- und Volkstrachtenverein „Stamm“ Regenstauf ein Adventsingen! \nDieses findet heuer am Sonntag\, den 15. Dezember 2024\, um 17 Uhr in der  statt. \nDie Kirche wählten die Trachtler als Ort\, da er für das Einstimmen auf die besinnliche Adventszeit\nund die bevorstehenden Weihnachtsfeiertage geradezu ideal ist. \nVorsitzender Tobias Lehner hat dazu die Zupfer Moidln aus Neustadt a. d. Waldnaab\, die Staad\nLustign\, das Bläserquartett Beratzhausen sowie die vereinseigene Ziachmusik eingeladen. \nZwischen den Musik- und Gesangsdarbietungen werden zu der Jahreszeit passende Mundartgeschichten vom\nKreisvolksmusikpfleger vorgetragen. \nDer Eintritt ist frei.
URL:https://oberpfaelzer-gauverband.de/event/2195
LOCATION:Pfarrkirche St. Johannes in Diesenbach
CATEGORIES:Advent,Brauchtum,Vereine
ATTACH;FMTTYPE=image/jpeg:https://oberpfaelzer-gauverband.de/wp-content/uploads/2024/12/Blaeserquartett_Beratzhausen.jpg
END:VEVENT
BEGIN:VEVENT
DTSTART;TZID=Europe/Berlin:20241222T150000
DTEND;TZID=Europe/Berlin:20241222T170000
DTSTAMP:20260421T201730
CREATED:20241107T161115Z
LAST-MODIFIED:20241107T161115Z
UID:2149-1734879600-1734886800@oberpfaelzer-gauverband.de
SUMMARY:Gebiet Süd: Adventsingen
DESCRIPTION:Herzliche Einladung zum traditionellen Adventsingen des Gebiet Süd am 4. Advent.\nDieses Jahr findet das Adventsingen am 22.12.24 um 15 Uhr in der ehrwürdigen Pfarrkirche St. Josef in Reinhausen statt.\nDie teilnehmenden Musikanten kommen aus den Trachtenvereinen der Stadt und der Umgebung. Auch die jüngsten Nachwuchsmusiker zeigen bereits ihr Können. \nOrganisiert wird die Veranstaltung vom Trachtenverein Alpiner\, unterstützt vom Musikwart Karlheinz Jaroschik. Franz Glas wird die verbindenden Texte sprechen. \nTeilnehmen werden die Musik- und Gesangsgruppen der Trachtenvereine Alpiner Regensburg\, Almrausch Stamm Regensburg\, Stamm Regenstauf\, Gautrachtenkapelle Beratzhausen und Naabtaler Etterzhausen. \nDer Eintritt ist frei. \nDie Kollekte wird einem wohltätigen Zweck in der Pfarrei zugeführt. H.H. Pfarrer Eichinger freut sich darauf\, viele Freunde echter Volksmusik begrüßen zu dürfen. \nAdventsingen_2024
URL:https://oberpfaelzer-gauverband.de/event/gebiet-sued-adventsingen
LOCATION:Stadtpfarrkirche St.Josef Reinhausen\, Donaustaufer Str. 29\, Regensburg\, 93059\, Germany
CATEGORIES:Gau
ATTACH;FMTTYPE=image/jpeg:https://oberpfaelzer-gauverband.de/wp-content/uploads/2024/11/Adventsingen_quer.jpeg
END:VEVENT
BEGIN:VEVENT
DTSTART;TZID=Europe/Berlin:20241229T170000
DTEND;TZID=Europe/Berlin:20241229T220000
DTSTAMP:20260421T201730
CREATED:20241213T224118Z
LAST-MODIFIED:20241213T224118Z
UID:2200-1735491600-1735509600@oberpfaelzer-gauverband.de
SUMMARY:Rauhnacht`s-Wanderung am 29. Dezember 2024 in Bruck i.d.OPf.
DESCRIPTION:Einladung zur Rauhnacht`s-Wanderung am 29. Dezember 2024 \nAbmarsch am Marktplatz um 17.00 Uhr \nEs gibt verschieden Stationen mit Rauhnacht`s-Gestalten. \n  \nWichtige Informationen: \n\nFestes Schuhwerk ist wichtig\nEmpfohlenes Alter zur Teilnahme: ab 16 Jahre\nTeilnehmer-Gebühr: 10 EUR\nKartenvorverkauf ab 25. November im Gasthaus zur Post\, Marktplatz 8 in Bruck\n\nAuf Ihre Teilnahme freut sich die Rauhnacht`s Gmoa Bruck \ndes Trachtenvereins „Enzian Bruck“ \n 
URL:https://oberpfaelzer-gauverband.de/event/rauhnachts-wanderung-am-29-dezember-2024-in-bruck-i-d-opf
LOCATION:Gasthaus zur Post\, Bruck i.d.OPf.\, Marktplatz 8\, Bruck i.d.OPf.\, Bayern\, 92436\, Germany
CATEGORIES:Brauchtum,Rauhnächte,Vereine
ATTACH;FMTTYPE=image/jpeg:https://oberpfaelzer-gauverband.de/wp-content/uploads/2024/12/20241229_Rauhnachtswanderung_Plakat1-scaled.jpg
END:VEVENT
END:VCALENDAR