BEGIN:VCALENDAR
VERSION:2.0
PRODID:-//Oberpfälzer Gauverband - ECPv6.15.20//NONSGML v1.0//EN
CALSCALE:GREGORIAN
METHOD:PUBLISH
X-ORIGINAL-URL:https://oberpfaelzer-gauverband.de
X-WR-CALDESC:Veranstaltungen für Oberpfälzer Gauverband
REFRESH-INTERVAL;VALUE=DURATION:PT1H
X-Robots-Tag:noindex
X-PUBLISHED-TTL:PT1H
BEGIN:VTIMEZONE
TZID:Europe/Berlin
BEGIN:DAYLIGHT
TZOFFSETFROM:+0100
TZOFFSETTO:+0200
TZNAME:CEST
DTSTART:20240331T010000
END:DAYLIGHT
BEGIN:STANDARD
TZOFFSETFROM:+0200
TZOFFSETTO:+0100
TZNAME:CET
DTSTART:20241027T010000
END:STANDARD
BEGIN:DAYLIGHT
TZOFFSETFROM:+0100
TZOFFSETTO:+0200
TZNAME:CEST
DTSTART:20250330T010000
END:DAYLIGHT
BEGIN:STANDARD
TZOFFSETFROM:+0200
TZOFFSETTO:+0100
TZNAME:CET
DTSTART:20251026T010000
END:STANDARD
BEGIN:DAYLIGHT
TZOFFSETFROM:+0100
TZOFFSETTO:+0200
TZNAME:CEST
DTSTART:20260329T010000
END:DAYLIGHT
BEGIN:STANDARD
TZOFFSETFROM:+0200
TZOFFSETTO:+0100
TZNAME:CET
DTSTART:20261025T010000
END:STANDARD
END:VTIMEZONE
BEGIN:VEVENT
DTSTART;TZID=Europe/Berlin:20250106T160000
DTEND;TZID=Europe/Berlin:20250106T170000
DTSTAMP:20260421T185003
CREATED:20250103T114016Z
LAST-MODIFIED:20250103T115926Z
UID:2215-1736179200-1736182800@oberpfaelzer-gauverband.de
SUMMARY:B`sinnliche Stund des Gebiet Nord am 06.01.2025 in Neuhaus
DESCRIPTION:Alle Jahre wieder lädt das Gebiet Nord des Oberpfälzer Gauverbands herzlichst zur „b´sinnlichen Stund“ ein.\n\n\n\n\n\nAm 06.01.2025 um 16:00 Uhr in der Heilig-Geist-Kirche Neuhaus\nlassen die Trachtler bei Musik\, Gesang und alten Bräuchen das Jahr 2025 ruhig und besinnlich einläuten.\n\nGenießen Sie eine Stunde Ruhe bei Musik\, Gesang und Geschichten.\n\n\nMitwirkende: Trachtenverein Windisch-Eschenbach\, Gitarren-Duo Stangl\, am Akkordeon Roland Steinruch\, Veen-Harfen-Gruppe\, Josef Sterr / Veen-Harfe und Gedichte\, Josef Hofer / Hausgesang.\n\nUm Spenden wird gebeten\, die für einen guten Zweck weiter geleitet werden.\n\nEine herzliche Einladung geht an die gesamte Bevölkerung.\n\n\n\n\n\n\n\n\n\n\n\n\n\n\n\n\nDie Trachtenvereine und Freunde des „Gebiet Nord“ der Oberpfälzer Gauverbands freuen  sich auf Ihren Besuch.\n1. Vorstand des Gebiet Nord Willy Binner
URL:https://oberpfaelzer-gauverband.de/event/bsinnliche-stund-des-gebiet-nord-am-06-01-2025-in-neuhaus
LOCATION:Heilig Geist-Kirche in Neuhaus
CATEGORIES:Brauchtum
ATTACH;FMTTYPE=image/jpeg:https://oberpfaelzer-gauverband.de/wp-content/uploads/2025/01/471544382_1007789601397792_909705540263917893_n.jpg
END:VEVENT
BEGIN:VEVENT
DTSTART;TZID=Europe/Berlin:20250118T190000
DTEND;TZID=Europe/Berlin:20250118T233000
DTSTAMP:20260421T185003
CREATED:20241029T122220Z
LAST-MODIFIED:20241029T122220Z
UID:2144-1737226800-1737243000@oberpfaelzer-gauverband.de
SUMMARY:Regensburger Trachtenvereine: Trachtenball
DESCRIPTION:Boarisch Tanz’n im Fasching? \nin Tracht? \nja genau\, auf geht’s zum Trachtenball der Interessensgemeinschaft der Regensburger Trachtenvereine \nam 18.01.2025 im Spitalgarten\, Es spielt die Blaskapelle Beratzhausen auf zum Volkstanz und Gemeinschaftstanz. \nMia gfreun uns auf eich! \nVolkstrachtenverein Almrausch Stamm Regensburg\nTrachtenverein Alpiner Regensburg\nTrachtenverein Regensburg Stamm\nEghalanda Gmoi Josef Hoffmann \nTrachtenball_2025
URL:https://oberpfaelzer-gauverband.de/event/regensburger-trachtenvereine-trachtenball
LOCATION:Spitalgarten Regensburg\, St. Katharinenplatz 1\, Regensburg\, Bayern\, 93059\, Deutschland
CATEGORIES:Vereine,Volkstanz
ATTACH;FMTTYPE=image/jpeg:https://oberpfaelzer-gauverband.de/wp-content/uploads/2024/10/20240127_202915760_iOS-1_edited.jpg
END:VEVENT
BEGIN:VEVENT
DTSTART;TZID=Europe/Berlin:20250119T140000
DTEND;TZID=Europe/Berlin:20250119T170000
DTSTAMP:20260421T185003
CREATED:20241213T204759Z
LAST-MODIFIED:20241213T204900Z
UID:2177-1737295200-1737306000@oberpfaelzer-gauverband.de
SUMMARY:Vorständeseminar 19. Januar 2025 in Stulln - Vorankündigung
DESCRIPTION:Wichtige Information für alle Vorstände der Mitgliedsvereine: \nAm Sonntag\, den 19. Januar 2025 findet das Vorständeseminar des Oberpfälzer Gauverbands statt. \nVeranstaltungsort: Gasthaus „Bodensteiner“ in Stulln. \nWeitere Informationen dazu folgen noch! \n  \nBitte merkt Euch diesen Termin vor!
URL:https://oberpfaelzer-gauverband.de/event/vorstaendeseminar-19-januar-2025-in-stulln
END:VEVENT
BEGIN:VEVENT
DTSTART;TZID=Europe/Berlin:20250131T201100
DTEND;TZID=Europe/Berlin:20250131T233000
DTSTAMP:20260421T185003
CREATED:20250123T201937Z
LAST-MODIFIED:20250123T201937Z
UID:2237-1738354260-1738366200@oberpfaelzer-gauverband.de
SUMMARY:D'Labertaler Beratzhausen: Boarischer Kappenabend
DESCRIPTION:Auf geht’s zum „boarischen“ Kappenabend im „Sher-e-Punjab“ am 31.01.2025\, Einlass ab 19:00Uhr\, Beginn 20:11Uhr\, damit a olle dosan. \nEin geselliger Abend für Jedermann\, Maschkara erwünscht\, Eintritt frei. \nEs erwarten euch Zünftige Musi\, Boarischer Tanzboden\, Schaug-Hi-Lus-Zua-Lach-Mit-Einlagen \nKappenabend-2025
URL:https://oberpfaelzer-gauverband.de/event/dlabertaler-beratzhausen-boarischer-kappenabend
LOCATION:Sher-e-Punjab\, Beratzhausen\, Gottfried-Kölwel-Platz 4\, Bertazhausen\, Bayern\, 93176\, Deutschland
CATEGORIES:Vereine
ATTACH;FMTTYPE=image/jpeg:https://oberpfaelzer-gauverband.de/wp-content/uploads/2025/01/Kappenabend-quadrat-2025.jpeg
ORGANIZER;CN="D`Labertaler Beratzhausen":MAILTO:christina_hartl@yahoo.de
END:VEVENT
END:VCALENDAR