BEGIN:VCALENDAR
VERSION:2.0
PRODID:-//Oberpfälzer Gauverband - ECPv6.15.20//NONSGML v1.0//EN
CALSCALE:GREGORIAN
METHOD:PUBLISH
X-WR-CALNAME:Oberpfälzer Gauverband
X-ORIGINAL-URL:https://oberpfaelzer-gauverband.de
X-WR-CALDESC:Veranstaltungen für Oberpfälzer Gauverband
REFRESH-INTERVAL;VALUE=DURATION:PT1H
X-Robots-Tag:noindex
X-PUBLISHED-TTL:PT1H
BEGIN:VTIMEZONE
TZID:Europe/Berlin
BEGIN:DAYLIGHT
TZOFFSETFROM:+0100
TZOFFSETTO:+0200
TZNAME:CEST
DTSTART:20240331T010000
END:DAYLIGHT
BEGIN:STANDARD
TZOFFSETFROM:+0200
TZOFFSETTO:+0100
TZNAME:CET
DTSTART:20241027T010000
END:STANDARD
BEGIN:DAYLIGHT
TZOFFSETFROM:+0100
TZOFFSETTO:+0200
TZNAME:CEST
DTSTART:20250330T010000
END:DAYLIGHT
BEGIN:STANDARD
TZOFFSETFROM:+0200
TZOFFSETTO:+0100
TZNAME:CET
DTSTART:20251026T010000
END:STANDARD
BEGIN:DAYLIGHT
TZOFFSETFROM:+0100
TZOFFSETTO:+0200
TZNAME:CEST
DTSTART:20260329T010000
END:DAYLIGHT
BEGIN:STANDARD
TZOFFSETFROM:+0200
TZOFFSETTO:+0100
TZNAME:CET
DTSTART:20261025T010000
END:STANDARD
END:VTIMEZONE
BEGIN:VEVENT
DTSTART;TZID=Europe/Berlin:20250309T133000
DTEND;TZID=Europe/Berlin:20250309T170000
DTSTAMP:20260421T151840
CREATED:20250206T213928Z
LAST-MODIFIED:20250206T213928Z
UID:2249-1741527000-1741539600@oberpfaelzer-gauverband.de
SUMMARY:Gemeinschaftstanzprobe im Gebiet Süd
DESCRIPTION:der Sachausschuss Volkstanz und Schuhplattler lädt ein zur „Offenen Gemeinschaftstanzprobe in Tracht“ / Frühjahrstanzprobe im Gebiet Süd\nDann könnts glei alle mal schaun\, ob no alles passt\, guat beinand is… \nDiese findet am Sonntag 09.03. in der Jahnhalle in Regenstauf statt!\nAdresse fürs Navi oder Gisela: Jahnhalle Regenstauf\, Jahnstraße 6\, 93128 Regenstauf \nProgramm:\nTreffpunkt 13:30:\nihr brauchts ned a halbe Stunde eher do sei\, aber so bis 13:35 wenn olle do warn dat uns gfrein. Musik kommt dann so\, dass wir ab ca. 14:00 Tanzen können \n13:30-14:00: Gesprächsrunde und Termine\nDa kommts auf euch an\, was wollt‘s ihr uns sagen? Was brauchts ihr? Was brennt euch unter den Nägeln? Was stört euch? Und dann natürlich die Frage wie geht’s weiter in Zukunft? -> wer übernimmt in Zukunft die Organisation? \n14:00-17:00 Tanz und Plattlerprobe\nEinladung ergeht an alle Tanz- und Plattlerbegeisterten. egal ob man kein Amt hat oder schon\, ob Vortänzer und Vortänzerinnen\, Tanzkursleitende\, Vorplattler\, Mitarbeitende in der Jugend\, Jugendliche.
URL:https://oberpfaelzer-gauverband.de/event/gemeinschaftstanzprobe-im-gebiet-sued
LOCATION:Jahnhalle in Regenstauf
CATEGORIES:Gau
ATTACH;FMTTYPE=image/jpeg:https://oberpfaelzer-gauverband.de/wp-content/uploads/2024/02/2024_Gebietsprobe_01.jpg
END:VEVENT
BEGIN:VEVENT
DTSTART;TZID=Europe/Berlin:20250316T100000
DTEND;TZID=Europe/Berlin:20250316T140000
DTSTAMP:20260421T151840
CREATED:20241213T205647Z
LAST-MODIFIED:20241213T205647Z
UID:2181-1742119200-1742133600@oberpfaelzer-gauverband.de
SUMMARY:Gauversammlung 2025 am 16. März 2025 - Vorankündigung
DESCRIPTION:Wichtige Information für alle Mitgliedsvereine: \nAm Sonntag\, den 16. März 2025 ab 10.00 Uhr findet die Gauversammlung statt. \nVeranstaltungsort: Gebiet Süd – genauer Ort folgt noch! \nBitte merkt Euch diesen wichtigen Termin vor.
URL:https://oberpfaelzer-gauverband.de/event/gauversammlung-2025-am-16-maerz-2025-vorankuendigung
END:VEVENT
BEGIN:VEVENT
DTSTART;TZID=Europe/Berlin:20250329T130000
DTEND;TZID=Europe/Berlin:20250329T160000
DTSTAMP:20260421T151840
CREATED:20250130T110112Z
LAST-MODIFIED:20250130T110112Z
UID:2241-1743253200-1743264000@oberpfaelzer-gauverband.de
SUMMARY:Almrausch Stamm Regensburg: Trachtenbasar
DESCRIPTION:Rechtzeitig vor der Dultsaison organisiert der Volkstrachtenverein Almrausch Stamm Regensburg den ersten Rengschburger Trachtenbasar am Samstag 29.03.25 in der Turnhalle der SG-Walhalla. Detaillierte Informationen und Konditionen für Anbieter/Verkäufer oder was euch erwartet findet ihr auf almrausch-stamm.de. Der Verkauf wird zwischen 13:00 und 16:00 Uhr stattfinden. \nAnmeldung ist ab 01.02. bis 26.03 möglich \n\n\n\nWir als Volkstrachtenverein haben uns der Heimat- und Trachtenpflege verschrieben. In unserer Arbeit ist es schon immer ein Ziel\, Trachten weiterzugeben und Altes\, Bestehendes weiterzutragen. So werden unsere Kinder und Jugendlichen nicht zwingend mit neuen Dirndl und Trachten ausgestattet\, sondern unsere Trachtwartin und fleißige Helfer schneidern diese immer wieder um und geben somit alten Kleidungsstücken ein neues Leben. Auch beim Schneidern von Unterröcken und Unterwäsche werden nicht mehr genutzte Stoffe aus altem Bettzeug wiederverwendet. Letzteres wird auch als Futterstoff für selbst genähte Trachtenwesten genutzt.   Nachhaltigkeit ist uns schon immer wichtig und im Sinne der Heimatpflege ist dies auch ein Beitrag zum Erhalt unserer Heimat. Aus diesem Grund wollen wir eine Plattform bieten um privat getragenen „Trachten“\, „Boarisch Gwand“\, „Landhausmode“ oder wie man es auch immer nennt\, ein zweites Leben zu ermöglichen.   Wir haben dazu das Format eines Basars gewählt\, in dem ihr als Anbieter/Verkäufer uns die Ware zur Verfügung stellt. Wir übernehmen für euch die Präsentation und den Verkauf. Mit der Verkaufsprovision unterstützt ihr unsere Vereinsarbeit. Die Preisgestaltung liegt bei euch\, ein Handeln gibt es nicht.\nTrachtenbasar_ARS_2025 Trachtenbasar_ARS_2025-seite2
URL:https://oberpfaelzer-gauverband.de/event/almrausch-stamm-regensburg-trachtenbasar
LOCATION:SG Walhalla Regensburg\, Am Holzhof 1\, Regensburg\, Bayern\, 93059\, Deutschland
CATEGORIES:Vereine
ATTACH;FMTTYPE=image/jpeg:https://oberpfaelzer-gauverband.de/wp-content/uploads/2025/01/Trachtenbasar_ARS_2025-quer_edited.jpg
END:VEVENT
END:VCALENDAR