BEGIN:VCALENDAR
VERSION:2.0
PRODID:-//Oberpfälzer Gauverband - ECPv6.15.20//NONSGML v1.0//EN
CALSCALE:GREGORIAN
METHOD:PUBLISH
X-ORIGINAL-URL:https://oberpfaelzer-gauverband.de
X-WR-CALDESC:Veranstaltungen für Oberpfälzer Gauverband
REFRESH-INTERVAL;VALUE=DURATION:PT1H
X-Robots-Tag:noindex
X-PUBLISHED-TTL:PT1H
BEGIN:VTIMEZONE
TZID:Europe/Berlin
BEGIN:DAYLIGHT
TZOFFSETFROM:+0100
TZOFFSETTO:+0200
TZNAME:CEST
DTSTART:20230326T010000
END:DAYLIGHT
BEGIN:STANDARD
TZOFFSETFROM:+0200
TZOFFSETTO:+0100
TZNAME:CET
DTSTART:20231029T010000
END:STANDARD
BEGIN:DAYLIGHT
TZOFFSETFROM:+0100
TZOFFSETTO:+0200
TZNAME:CEST
DTSTART:20240331T010000
END:DAYLIGHT
BEGIN:STANDARD
TZOFFSETFROM:+0200
TZOFFSETTO:+0100
TZNAME:CET
DTSTART:20241027T010000
END:STANDARD
BEGIN:DAYLIGHT
TZOFFSETFROM:+0100
TZOFFSETTO:+0200
TZNAME:CEST
DTSTART:20250330T010000
END:DAYLIGHT
BEGIN:STANDARD
TZOFFSETFROM:+0200
TZOFFSETTO:+0100
TZNAME:CET
DTSTART:20251026T010000
END:STANDARD
END:VTIMEZONE
BEGIN:VEVENT
DTSTART;TZID=Europe/Berlin:20240202T201100
DTEND;TZID=Europe/Berlin:20240203T000000
DTSTAMP:20260423T044121
CREATED:20240118T165205Z
LAST-MODIFIED:20240204T162202Z
UID:1934-1706904660-1706918400@oberpfaelzer-gauverband.de
SUMMARY:"boarischer" Kappenabend
DESCRIPTION:Der Trachtenverein „D’Labertaler“ Beratzhausen lädt ein zum „boarischen“ Kappenabend im „Sher-e-Punjab“ (ehemals Gasthaus Mosner)\nFreitag 02.02.2024\, Einlass ab 19:00Uhr\, Beginn 20:11Uhr\, damit a olle dosan. \nEin geselliger Abend für Jedermann\,\nMaschkara erwünscht\, Eintritt frei. \nEs erwarten euch Zünftige Musi\, Boarischer Tanzboden\, Schaug-Hi-Lus-Zua-Lach-Mit-Einlagen
URL:https://oberpfaelzer-gauverband.de/event/boarischer-kappenabend
LOCATION:Sher-e-Punjab\, Beratzhausen\, Gottfried-Kölwel-Platz 4\, Bertazhausen\, Bayern\, 93176\, Deutschland
CATEGORIES:Vereine
ATTACH;FMTTYPE=image/jpeg:https://oberpfaelzer-gauverband.de/wp-content/uploads/2024/01/Kappenabend-Homepage.jpeg
END:VEVENT
END:VCALENDAR