BEGIN:VCALENDAR
VERSION:2.0
PRODID:-//Oberpfälzer Gauverband - ECPv6.15.20//NONSGML v1.0//EN
CALSCALE:GREGORIAN
METHOD:PUBLISH
X-WR-CALNAME:Oberpfälzer Gauverband
X-ORIGINAL-URL:https://oberpfaelzer-gauverband.de
X-WR-CALDESC:Veranstaltungen für Oberpfälzer Gauverband
REFRESH-INTERVAL;VALUE=DURATION:PT1H
X-Robots-Tag:noindex
X-PUBLISHED-TTL:PT1H
BEGIN:VTIMEZONE
TZID:Europe/Berlin
BEGIN:DAYLIGHT
TZOFFSETFROM:+0100
TZOFFSETTO:+0200
TZNAME:CEST
DTSTART:20230326T010000
END:DAYLIGHT
BEGIN:STANDARD
TZOFFSETFROM:+0200
TZOFFSETTO:+0100
TZNAME:CET
DTSTART:20231029T010000
END:STANDARD
BEGIN:DAYLIGHT
TZOFFSETFROM:+0100
TZOFFSETTO:+0200
TZNAME:CEST
DTSTART:20240331T010000
END:DAYLIGHT
BEGIN:STANDARD
TZOFFSETFROM:+0200
TZOFFSETTO:+0100
TZNAME:CET
DTSTART:20241027T010000
END:STANDARD
BEGIN:DAYLIGHT
TZOFFSETFROM:+0100
TZOFFSETTO:+0200
TZNAME:CEST
DTSTART:20250330T010000
END:DAYLIGHT
BEGIN:STANDARD
TZOFFSETFROM:+0200
TZOFFSETTO:+0100
TZNAME:CET
DTSTART:20251026T010000
END:STANDARD
END:VTIMEZONE
BEGIN:VEVENT
DTSTART;TZID=Europe/Berlin:20240405T193000
DTEND;TZID=Europe/Berlin:20240405T210000
DTSTAMP:20260424T192809
CREATED:20240401T163509Z
LAST-MODIFIED:20240401T163509Z
UID:2035-1712345400-1712350800@oberpfaelzer-gauverband.de
SUMMARY:Regionalkonferenz des Oberpfälzer Gauverbandes\, des Gauverbands Oberpfalz und des Bayerischen Trachtenverbandes
DESCRIPTION:Einladung \nzur Regionalkonferenz der beiden Oberpfälzer Gaue mit dem Bayerischen Trachtenverband \nam Freitag 05. April 2024\, \nin 92436 Bruck i. d. OPf.\, Gasthof zur Post\, Marktplatz 8 \nBeginn: 19.30 Uhr \nThemen: \n\nVorstellung der Aktivitäten des BTV\nAktiver Austausch zwischen BTV und Trachtlern\n\n„Während\, aber auch im Anschluss der Vorstellung der Aktivitäten des Bayerischen Trachtenverbandes können Fragen gestellt werden. Es werden alle Fragen\, die im Zusammenhang mit der Arbeit des Landesvorstandes und des Bayerischen Trachtenverbandes stehen beantwortet. \nEs gibt keine Tabuthemen.“ \n                                                            – Günter Frey Landesvorsitzender des Bay. Trachtenverbandes \nAlles was uns auf den Nägeln brennt\, können wir fragen und abklären. \nZu dieser Konferenz sind recht herzlich eingeladen: \n\nalle Vorstände und Ausschussmitglieder der Mitgliedsvereine\nalle Gauausschussmitglieder wie auch alle Gebietsausschussmitglieder\nalle interessierte Trachtlerinnen und Trachtler unserer Trachtenvereine\n\nWir\, die Gauverwaltung\, hoffen\, dass viele interessierte Trachtlerinnen und Trachtler die Gelegenheit nutzen\, um sich zu informieren und mit dem BTV auszutauschen. \nWir bitten für die bessere Planung um kurze Rückmeldung bis zum 04.04.2024\, ob und mit wie vielen Personen ihr an der Regionalkonferenz teilnehmt. Natürlich sind auch Kurzentschlossene noch herzlich willkommen. \nWir bitten um pünktliches Erscheinen. \nDanke für Eure Unterstützung! \n  \nMit Trachtengruß \n  \nJürgen Hofmann
URL:https://oberpfaelzer-gauverband.de/event/regionalkonferenz-des-oberpfaelzer-gauverbandes-des-gauverbands-oberpfalz-und-des-bayerischen-trachtenverbandes
CATEGORIES:Gau
ATTACH;FMTTYPE=image/jpeg:https://oberpfaelzer-gauverband.de/wp-content/uploads/2024/04/Einladung-Regionalkonferenz-2024_THB.jpg
END:VEVENT
END:VCALENDAR