BEGIN:VCALENDAR
VERSION:2.0
PRODID:-//Oberpfälzer Gauverband - ECPv6.15.20//NONSGML v1.0//EN
CALSCALE:GREGORIAN
METHOD:PUBLISH
X-ORIGINAL-URL:https://oberpfaelzer-gauverband.de
X-WR-CALDESC:Veranstaltungen für Oberpfälzer Gauverband
REFRESH-INTERVAL;VALUE=DURATION:PT1H
X-Robots-Tag:noindex
X-PUBLISHED-TTL:PT1H
BEGIN:VTIMEZONE
TZID:Europe/Berlin
BEGIN:DAYLIGHT
TZOFFSETFROM:+0100
TZOFFSETTO:+0200
TZNAME:CEST
DTSTART:20230326T010000
END:DAYLIGHT
BEGIN:STANDARD
TZOFFSETFROM:+0200
TZOFFSETTO:+0100
TZNAME:CET
DTSTART:20231029T010000
END:STANDARD
BEGIN:DAYLIGHT
TZOFFSETFROM:+0100
TZOFFSETTO:+0200
TZNAME:CEST
DTSTART:20240331T010000
END:DAYLIGHT
BEGIN:STANDARD
TZOFFSETFROM:+0200
TZOFFSETTO:+0100
TZNAME:CET
DTSTART:20241027T010000
END:STANDARD
BEGIN:DAYLIGHT
TZOFFSETFROM:+0100
TZOFFSETTO:+0200
TZNAME:CEST
DTSTART:20250330T010000
END:DAYLIGHT
BEGIN:STANDARD
TZOFFSETFROM:+0200
TZOFFSETTO:+0100
TZNAME:CET
DTSTART:20251026T010000
END:STANDARD
END:VTIMEZONE
BEGIN:VEVENT
DTSTART;TZID=Europe/Berlin:20240927T193000
DTEND;TZID=Europe/Berlin:20240927T230000
DTSTAMP:20260422T184137
CREATED:20240906T194720Z
LAST-MODIFIED:20240906T194720Z
UID:2106-1727465400-1727478000@oberpfaelzer-gauverband.de
SUMMARY:Musikantentreffen von Oberpfälzer\, Nieder- und Oberbayerischen Musikanten in Oberpfraundorf
DESCRIPTION:Oberpfälzer\, Niederbayerische und Oberbayerische Musikanten treffen sich  \nbeim Landgasthof Schnaus in Oberpfraundorf \nTrachtler veranstalten ein gemeinsames Musikantentreffen \nDie Volksmusikwarte des Donaugaues sowie des Oberpfälzer Gauverbandes Gabi Hamberger\, Anita\nKallmünzer\, Karlheinz Jaroschik sowie Tobias Lehner laden zu einem traditionellen\nMusikantentreffen ein \nam 27.09.2024 ab 19:30 Uhr  \nim Landgasthof Schnaus in Oberpfraundorf \nZu hören gibt es u.a. die Gummedinger Glockenstehler\, die Trauntaler Geignmusi\, die Neuprüller\nStammtischmusik\, die Stubenmusik und die Schwiegertöne vom Almrausch-Stamm Regensburg\,\ndas Ziachduo vom Stamm Regenstauf sowie die Gautrachtenkapelle Beratzhausen. \nZwischen den\nMusik- und Gesangsbeiträgen werden amüsante sowie auch nachdenkliche Mundartgeschichten\nvorgetragen. \nPlatzreservierungen bitte direkt beim Wirt „Landgasthof Schnaus“ Dorfstraße 42\, 93176 Beratzhausen unter Tel. 09493/789 vornehmen.
URL:https://oberpfaelzer-gauverband.de/event/musikantentreffen-von-oberpfaelzer-nieder-und-oberbayerischen-musikanten-in-oberpfraundorf
LOCATION:Oberpfraundorf\, Dorfstraße 42\, Beratzhausen\, Bayern\, 93176
CATEGORIES:Brauchtum,Gau,Musikantentreffen
ATTACH;FMTTYPE=image/jpeg:https://oberpfaelzer-gauverband.de/wp-content/uploads/2024/09/Blaskapelle-Beratzhausen-087.jpg
END:VEVENT
END:VCALENDAR