BEGIN:VCALENDAR
VERSION:2.0
PRODID:-//Oberpfälzer Gauverband - ECPv6.15.20//NONSGML v1.0//EN
CALSCALE:GREGORIAN
METHOD:PUBLISH
X-WR-CALNAME:Oberpfälzer Gauverband
X-ORIGINAL-URL:https://oberpfaelzer-gauverband.de
X-WR-CALDESC:Veranstaltungen für Oberpfälzer Gauverband
REFRESH-INTERVAL;VALUE=DURATION:PT1H
X-Robots-Tag:noindex
X-PUBLISHED-TTL:PT1H
BEGIN:VTIMEZONE
TZID:Europe/Berlin
BEGIN:DAYLIGHT
TZOFFSETFROM:+0100
TZOFFSETTO:+0200
TZNAME:CEST
DTSTART:20240331T010000
END:DAYLIGHT
BEGIN:STANDARD
TZOFFSETFROM:+0200
TZOFFSETTO:+0100
TZNAME:CET
DTSTART:20241027T010000
END:STANDARD
BEGIN:DAYLIGHT
TZOFFSETFROM:+0100
TZOFFSETTO:+0200
TZNAME:CEST
DTSTART:20250330T010000
END:DAYLIGHT
BEGIN:STANDARD
TZOFFSETFROM:+0200
TZOFFSETTO:+0100
TZNAME:CET
DTSTART:20251026T010000
END:STANDARD
BEGIN:DAYLIGHT
TZOFFSETFROM:+0100
TZOFFSETTO:+0200
TZNAME:CEST
DTSTART:20260329T010000
END:DAYLIGHT
BEGIN:STANDARD
TZOFFSETFROM:+0200
TZOFFSETTO:+0100
TZNAME:CET
DTSTART:20261025T010000
END:STANDARD
END:VTIMEZONE
BEGIN:VEVENT
DTSTART;TZID=Europe/Berlin:20250504T100000
DTEND;TZID=Europe/Berlin:20250504T163000
DTSTAMP:20260421T031247
CREATED:20241213T210615Z
LAST-MODIFIED:20250413T192442Z
UID:2183-1746352800-1746376200@oberpfaelzer-gauverband.de
SUMMARY:Gautrachtenfest in Weiden am 04. Mai 2025 - Einladung und Information
DESCRIPTION:Gautrachtenfest in Weiden   \nNachholfest nach dem Ausfall durch Corona 2020\n100 (5) Jahr Oberpfälzer Gauverband\nund\n100 (5) Jahre „D`Altbaierischen“ Weiden\nim Rahmen des Frühlingsfestes in Weiden\nam Sonntag 04. Mai 2025\n10.00 – 16.30 Uhr \n  \nGriaß Eich\, \nmia mechten eich recht herzlich zum 17. Gautrachtenfest vom Oberpfälzer Gauverband\, \nam 04.05.2025 ind‘Wein in da Oberpfalz eilodn. \nZum Feiern gabats glei zwoa bsonderne Anläss. \nZum Oana es 100jährige vom Oberpfälzer Gau\, \nzum Ondern es 100-jahrige vo de Altbairischen z‘ Wein. \nMia dad‘n uns gfreia wennds Ihr olle am 4. Mai gscheit mit uns feiern dad’s. \n\n\n\n\n\n\n\nProgramm: \n09:00 Uhr Eintreffen der Vereine \n10:00 Uhr  Festgottesdienst im Zelt \nanschließend Ehrentänze der Jugend sowie Grußworte \n12:00 Uhr Mittagessen \n13:30 Uhr  Aufstellung zum Festzug \n14:00 Uhr  Festzug anschließend Ehrentänze der Erwachsenen sowie Grußworte \n16:30 Uhr  Festausklang\n\n\n\nFestplatz: \nKonrad-Röntgen-Straße 19 \n92637 Weiden i.d. OPf. \nAutobahnausfahrt Weiden-Nord (A93)\n\n\n\n„Wir von der Gauverwaltung freuen uns darauf\, dass wir alle gemeinsam dieses Fest feiern\, um zu zeigen das wir Oberpfälzer noch lange da sind“ \n1. Gauvorstand Jürgen Hofmann und die Gauverwaltung des Oberpfälzer Gauverbands \nAls Anlage auch die Informationen zum Fest und der Anmeldebogen
URL:https://oberpfaelzer-gauverband.de/event/gautrachtenfest-in-weiden-am-04-mai-2025-einladung
LOCATION:Bayern
CATEGORIES:Brauchtum,Gau,Jubiläum,Schuhplattln,Trachtenfest,Vereine,Volkstanz
ATTACH;FMTTYPE=image/jpeg:https://oberpfaelzer-gauverband.de/wp-content/uploads/2024/12/Einladung-Gaufest-Weiden.jpg
END:VEVENT
BEGIN:VEVENT
DTSTART;TZID=Europe/Berlin:20250518T143000
DTEND;TZID=Europe/Berlin:20250518T180000
DTSTAMP:20260421T031247
CREATED:20250422T183117Z
LAST-MODIFIED:20250505T183041Z
UID:2313-1747578600-1747591200@oberpfaelzer-gauverband.de
SUMMARY:Gauprobe am 18.05.2025 ab 14:30 Uhr in Bruck in der Oberpfalz
DESCRIPTION:Liebe Trachtenkameradinnen und Trachtenkameraden\, \nwir laden euch herzlich ein zur Gautanz- und Plattlerprobe \nam Sonntag\, den 18. Mai 2025\, ab 14:30 Uhr in Bruck i. OPf. im Meiselsaal. \nKommen darf jeder\, der Lust hat – unabhängig von Rang\, Titel\, Erfahrung oder Unerfahrenheit. \nKommt vorbei\, um gemeinsam zu tanzen\, zu plattln und Spaß zu haben! \nWir freuen uns auf eure zahlreiche Teilnahme und einen schönen Nachmittag. \nÜber eine Rückmeldung bis zum 14.05.2025 würde ich mich sehr freuen. \nLiebe Grüße \nWichtl (Maximilian Wichmann)  \nGauvorplattler Oberpfälzer Gauverband \nTel.: 0170/8040376 \nE-Mail: vorplattler@oberpfaelzer-gauverband.de \n 
URL:https://oberpfaelzer-gauverband.de/event/gauprobe-2025
LOCATION:Gasthof „Zur Post“ im Meisl-Saal\, Marktplatz 2\, Bruck i.d. OPf.\, 92436
CATEGORIES:Gau,Gautanz- und Plattlprobe,Schuhplattln,Volkstanz
ATTACH;FMTTYPE=image/png:https://oberpfaelzer-gauverband.de/wp-content/uploads/2025/04/Einladung_Gauprobe.png
END:VEVENT
BEGIN:VEVENT
DTSTART;TZID=Europe/Berlin:20250531T200000
DTEND;TZID=Europe/Berlin:20250601T230000
DTSTAMP:20260421T031247
CREATED:20250512T181331Z
LAST-MODIFIED:20250512T181331Z
UID:2346-1748721600-1748818800@oberpfaelzer-gauverband.de
SUMMARY:75-Jähriges Vereinsjubiläum der D`Haidnaabtaler Trabitz am 31.05. / 01.06.2025
DESCRIPTION:Einladung zum 75-jährigen Vereinsjubiläum  \nLiebe Trachtler und Trachlerinnen\, \nam 31. Mai 2025 und 01. Juni 2025 begeht der Volks- und Gebirgstrachtenverein Trabitz unter der Schirmherrschaft von Gründungs- und Ehrenmitglied Bernhard Hartmann das 75-jährige Vereinsjubiläum. \nHierzu laden wir euch herzlich ein mit uns dieses Jubiläum zu feiern. \nFestprogramm:  \n\nSamstag\, 31.05.2025 20:00Uhr Partyabend mit Horrido & Barbetrieb\nSonntag\, 01.06.2025 \n\n9:15Uhr Aufstellung zum Kirchenzug (Kurbersdorfer Straße) \n9:30Uhr Festgottesdienst (am Sägewerk) \nanschließend Frühschoppen \nMittagessen (Anmeldung erforderlich) \nab 14:00Uhr Kaffee & Kuchen \nTanzauftritte \nFestausklang \nÜber eure Teilnahme am Partyabend\, Kirchenzug und Festgottesdienst oder Festnachmittag würden wir uns sehr freuen. \nUm entsprechend planen zu können\, bitten wir um Anmeldung (gerne per E-Mail oder Telefon) bis Freitag 16. Mai 2025 bei Johannes Pamler. \n– E-Mail: trachtenverein.trabitz@gmail.com \n– Tel.: 0151 53 83 71 15 \nBei der Anmeldung bitten wir um Angabe der \n– Anzahl der voraussichtlich teilnehmenden Personen \n– Anzahl der Mittagessen \nAuf euer Kommen freuen wir uns schon heute. \nMit freundlichem Trachtengruß \nJohannes Pamler\, 1. Vorsitzender \nFestadresse: Am Sägewerk – Heindlhof 2 – 92724 Trabitz \nParkmöglichkeiten: Am Festplatz – Kurbersdorfer Straße – Raiffeisenplatz – Paul-Leistritz-Platz – Troglauer Straße
URL:https://oberpfaelzer-gauverband.de/event/75-jaehriges-vereinsjubilaeum-der-dhaidnaabtaler-trabitz-am-31-05-01-06-2025
LOCATION:Festplatz Trabitz\, Am Sägewerk - Heindlhof 2\, Trabitz\, 92724
CATEGORIES:Jubiläum
ATTACH;FMTTYPE=image/jpeg:https://oberpfaelzer-gauverband.de/wp-content/uploads/2025/05/PHOTO-2024-10-14-12-03-13.jpeg
ORGANIZER;CN="Volks - und  Gebirgstrachtenverein D`Haidnaabtaler Trabitz":MAILTO:trachtenverein.trabitz@gmail.com
END:VEVENT
END:VCALENDAR