BEGIN:VCALENDAR
VERSION:2.0
PRODID:-//Oberpfälzer Gauverband - ECPv6.15.20//NONSGML v1.0//EN
CALSCALE:GREGORIAN
METHOD:PUBLISH
X-ORIGINAL-URL:https://oberpfaelzer-gauverband.de
X-WR-CALDESC:Veranstaltungen für Oberpfälzer Gauverband
REFRESH-INTERVAL;VALUE=DURATION:PT1H
X-Robots-Tag:noindex
X-PUBLISHED-TTL:PT1H
BEGIN:VTIMEZONE
TZID:Europe/Berlin
BEGIN:DAYLIGHT
TZOFFSETFROM:+0100
TZOFFSETTO:+0200
TZNAME:CEST
DTSTART:20230326T010000
END:DAYLIGHT
BEGIN:STANDARD
TZOFFSETFROM:+0200
TZOFFSETTO:+0100
TZNAME:CET
DTSTART:20231029T010000
END:STANDARD
BEGIN:DAYLIGHT
TZOFFSETFROM:+0100
TZOFFSETTO:+0200
TZNAME:CEST
DTSTART:20240331T010000
END:DAYLIGHT
BEGIN:STANDARD
TZOFFSETFROM:+0200
TZOFFSETTO:+0100
TZNAME:CET
DTSTART:20241027T010000
END:STANDARD
BEGIN:DAYLIGHT
TZOFFSETFROM:+0100
TZOFFSETTO:+0200
TZNAME:CEST
DTSTART:20250330T010000
END:DAYLIGHT
BEGIN:STANDARD
TZOFFSETFROM:+0200
TZOFFSETTO:+0100
TZNAME:CET
DTSTART:20251026T010000
END:STANDARD
END:VTIMEZONE
BEGIN:VEVENT
DTSTART;TZID=Europe/Berlin:20240907T170000
DTEND;TZID=Europe/Berlin:20240908T230000
DTSTAMP:20260424T083421
CREATED:20240825T203718Z
LAST-MODIFIED:20240825T203718Z
UID:2102-1725728400-1725836400@oberpfaelzer-gauverband.de
SUMMARY:Trachtlerkirwa 2024 in Pirkensee
DESCRIPTION:Der Heimat- und Volkstrachtenverein Pirkensee feiert am 07.und 08.09.2024 seine traditionelle Trachtlerkirwa und lädt recht herzlich dazu ein. \nFESTPRORAMM: \nSamstag\, den 07.09.2024 \n\n17.00 Uhr Einlass\n18.00 Uhr mit Bieranstich\nab 19.00 Uhr Boarischer Tanz mit der Doiwinkel Musi aus Nussdorf am Inn\n\nSonntag\, den 08.09.2024 \n\nab 10.00 Uhr Schafkopfturnier\nab 14.00 Uhr Festbeginn mit Kaffee und Kuchen\, Auftritte der Jugend und der anwesenden Trachtenvereine. \nAb 16.00 Uhr spielen die D`Spalter aus Amberg.\n\nDie Pirkenseer Trachtler freuen sich auf Euer Kommen! \n  \n 
URL:https://oberpfaelzer-gauverband.de/event/trachtlerkirwa-2024-in-pirkensee
CATEGORIES:Kirwa,Vereine,Volkstanz
ATTACH;FMTTYPE=image/jpeg:https://oberpfaelzer-gauverband.de/wp-content/uploads/2024/08/20240907_8_Trachtlerkirwa-Pirkensee.jpg
END:VEVENT
END:VCALENDAR