BEGIN:VCALENDAR
VERSION:2.0
PRODID:-//Oberpfälzer Gauverband - ECPv6.15.20//NONSGML v1.0//EN
CALSCALE:GREGORIAN
METHOD:PUBLISH
X-ORIGINAL-URL:https://oberpfaelzer-gauverband.de
X-WR-CALDESC:Veranstaltungen für Oberpfälzer Gauverband
REFRESH-INTERVAL;VALUE=DURATION:PT1H
X-Robots-Tag:noindex
X-PUBLISHED-TTL:PT1H
BEGIN:VTIMEZONE
TZID:Europe/Berlin
BEGIN:DAYLIGHT
TZOFFSETFROM:+0100
TZOFFSETTO:+0200
TZNAME:CEST
DTSTART:20230326T010000
END:DAYLIGHT
BEGIN:STANDARD
TZOFFSETFROM:+0200
TZOFFSETTO:+0100
TZNAME:CET
DTSTART:20231029T010000
END:STANDARD
BEGIN:DAYLIGHT
TZOFFSETFROM:+0100
TZOFFSETTO:+0200
TZNAME:CEST
DTSTART:20240331T010000
END:DAYLIGHT
BEGIN:STANDARD
TZOFFSETFROM:+0200
TZOFFSETTO:+0100
TZNAME:CET
DTSTART:20241027T010000
END:STANDARD
BEGIN:DAYLIGHT
TZOFFSETFROM:+0100
TZOFFSETTO:+0200
TZNAME:CEST
DTSTART:20250330T010000
END:DAYLIGHT
BEGIN:STANDARD
TZOFFSETFROM:+0200
TZOFFSETTO:+0100
TZNAME:CET
DTSTART:20251026T010000
END:STANDARD
END:VTIMEZONE
BEGIN:VEVENT
DTSTART;TZID=Europe/Berlin:20240908T140000
DTEND;TZID=Europe/Berlin:20240908T190000
DTSTAMP:20260422T094613
CREATED:20240726T185649Z
LAST-MODIFIED:20240726T190625Z
UID:2075-1725804000-1725822000@oberpfaelzer-gauverband.de
SUMMARY:Lockere Plattler-Probe
DESCRIPTION:Servus zusammen \nwie in den letzten Jahren zur Tradition geworden\, findet auch dieses Jahr wieder eine Lockere Plattler-Probe statt. \nDie Probe findet am 08.09.2024 im Vereinsheim der Knabenkapelle Auerbach ab 14:00 Uhr statt. \nGegen 18:00 Uhr werden wir dann gemeinsam Grillen und mit dem gemeinsamen Essen wird die Probe dann enden. \nGrills sind vorhanden\, das Grillgut ist selbst mitzubringen und über Salatspenden würden wir uns alle sehr freuen. \nAdresse: Bergknappenstraße 1\, 91275 Auerbach in der Oberpfalz. \nDie Feuerwehr ist ganz in der Nähe\, ich bitte euch\, dass ihr nicht vor der Feuerwehr parkt. \nGebt doch bis 30.08.2024 Bescheid\, ob und wie viele aus dem Verein kommen und ob du / ihr einen Salat mitbringt \nEine große Bitte habe ich noch: Bitte verzichtet auf Schuhe\, die mit Eisen besohlt sind\, da der Boden aus Holz ist! \nUm ein Beispiel zu nennen\, der originale Miesbacher Trachtenschuh hat Hufeisen. Falls jemand mit Eisen an den Sohlen kommt\, kann er leider nur in Strümpfen mitmachen. \nGauvorplattler Maximilian Wichmann
URL:https://oberpfaelzer-gauverband.de/event/lockere-plattler-probe
LOCATION:Vereinsheim Knabenkapelle Auerbach\, Bergknappenstraße 1\, Auerbach\, 91275
CATEGORIES:Gau,Schuhplattln
ATTACH;FMTTYPE=image/jpeg:https://oberpfaelzer-gauverband.de/wp-content/uploads/2024/07/Locker-Plattlerprobe-2024.jpg
END:VEVENT
END:VCALENDAR